BEGIN:VCALENDAR
VERSION:2.0
PRODID:Events Booking
BEGIN:VEVENT
UID:69eb582407d5a
SUMMARY:Ausbildung zum Brandschutzhelfer-BSH2026-32
DESCRIPTION:Mindestens fünf Prozent der Beschäftigten müssen in jedem Un
 ternehmen als Brandschutzhelfer ausgebildet sein. Lassen Sie sich ausbild
 en und nehmen Sie an unserer Schulung zum Brandschutzhelfer (m/w/d) teil.
LOCATION:Theaterstraße\, Aachen\, 52062 Nordrhein-Westfalen\, Deutschland
DTSTART:20261006T070000Z
DTEND:20261006T070000Z
DTSTAMP:20260312T073010Z
ORGANIZER;CN=Brandschutzbüro Jäger GmbH:MAILTO:info@brandschutz-jaeger.de
GEO:50.770683;6.09258
X-APPLE-STRUCTURED-LOCATION;VALUE=URI;X-ADDRESS=Theaterstraße\, Aachen\, 5
 2062 Nordrhein-Westfalen\, Deutschland;X-APPLE-RADIUS=72;X-TITLE=Vereinigt
 e Unternehmerverbände Aachen:50.770683;6.09258
END:VEVENT
END:VCALENDAR