BEGIN:VCALENDAR
VERSION:2.0
PRODID:Events Booking
BEGIN:VEVENT
UID:69eb5719f40c6
SUMMARY:Ausbildung zum Brandschutzhelfer-BSH2026-3
DESCRIPTION:Mindestens fünf Prozent der Beschäftigten müssen in jedem Un
 ternehmen als Brandschutzhelfer ausgebildet sein. Lassen Sie sich ausbild
 en und nehmen Sie an unserer Schulung zum Brandschutzhelfer (m/w/d) teil.
LOCATION:Zum Blaustein-See\, Eschweiler\, 52249 Nordrhein-Westfalen\, Deuts
 chland
DTSTART:20260717T070000Z
DTEND:20260717T120000Z
DTSTAMP:20251023T041952Z
ORGANIZER;CN=Brandschutzbüro Jäger GmbH:MAILTO:info@brandschutz-jaeger.de
GEO:50.852771;6.266618
X-APPLE-STRUCTURED-LOCATION;VALUE=URI;X-ADDRESS=Zum Blaustein-See\, Eschwei
 ler\, 52249 Nordrhein-Westfalen\, Deutschland;X-APPLE-RADIUS=72;X-TITLE=52
 249 Eschweiler\, Seehaus 53\, Zum Blausteinsee 53:50.852771;6.266618
END:VEVENT
END:VCALENDAR