BEGIN:VCALENDAR
VERSION:2.0
PRODID:Events Booking
BEGIN:VEVENT
UID:69eb575357ea9
SUMMARY:Brandschutzunterweisung online
DESCRIPTION:Der Arbeitgeber hat die Beschäftigten über die bei ihren Tät
 igkeiten auftretenden Gefährdungen sowie über die Maßnahmen zu ihrer Ab
 wendung vor Aufnahme der Beschäftigung sowie bei Veränderung des Tätigk
 eitsbereiches und danach in angemessenen Zeitabständen\, mindestens jedoc
 h einmal jährlich\, zu unterweisen.
DTSTART:20211213T080000Z
DTEND:20211213T100000Z
DTSTAMP:20211121T121053Z
ORGANIZER;CN=Brandschutzbüro Jäger GmbH:MAILTO:info@brandschutz-jaeger.de
END:VEVENT
END:VCALENDAR